Package: MultiDataSet Version: 1.20.2 Command: /Library/Frameworks/R.framework/Versions/Current/Resources/bin/R CMD build --keep-empty-dirs --no-resave-data MultiDataSet StartedAt: 2021-10-14 13:27:07 -0400 (Thu, 14 Oct 2021) EndedAt: 2021-10-14 13:28:18 -0400 (Thu, 14 Oct 2021) EllapsedTime: 70.5 seconds RetCode: 0 Status: OK PackageFile: MultiDataSet_1.20.2.tar.gz PackageFileSize: 494.7 KiB