Package: MultiDataSet Version: 1.20.2 Command: /Library/Frameworks/R.framework/Versions/Current/Resources/bin/R CMD INSTALL MultiDataSet StartedAt: 2021-10-14 09:20:30 -0400 (Thu, 14 Oct 2021) EndedAt: 2021-10-14 09:21:15 -0400 (Thu, 14 Oct 2021) EllapsedTime: 45.7 seconds RetCode: 0 Status: OK