Package: NADfinder Version: 1.16.0 Command: rm -rf NADfinder.buildbin-libdir && mkdir NADfinder.buildbin-libdir && /Users/biocbuild/BBS/utils/build-universal.sh NADfinder_1.16.0.tar.gz /Library/Frameworks/R.framework/Versions/Current/Resources/bin/R NADfinder.buildbin-libdir StartedAt: 2021-10-15 03:15:57 -0400 (Fri, 15 Oct 2021) EndedAt: 2021-10-15 03:17:43 -0400 (Fri, 15 Oct 2021) EllapsedTime: 105.8 seconds RetCode: 0 Status: OK PackageFile: NADfinder_1.16.0.tgz PackageFileSize: 6.664 MiB