Package: NADfinder Version: 1.16.0 Command: /Library/Frameworks/R.framework/Versions/Current/Resources/bin/R CMD INSTALL NADfinder StartedAt: 2021-10-14 10:16:18 -0400 (Thu, 14 Oct 2021) EndedAt: 2021-10-14 10:17:29 -0400 (Thu, 14 Oct 2021) EllapsedTime: 70.8 seconds RetCode: 0 Status: OK