Package: NADfinder Version: 1.16.0 Command: /home/biocbuild/bbs-3.13-bioc/R/bin/R CMD build --keep-empty-dirs --no-resave-data NADfinder StartedAt: 2021-10-14 07:50:05 -0400 (Thu, 14 Oct 2021) EndedAt: 2021-10-14 07:53:15 -0400 (Thu, 14 Oct 2021) EllapsedTime: 189.2 seconds RetCode: 0 Status: OK PackageFile: NADfinder_1.16.0.tar.gz PackageFileSize: 5.972 MiB