Package: NOISeq Version: 2.36.0 Command: /home/biocbuild/bbs-3.13-bioc/R/bin/R CMD build --keep-empty-dirs --no-resave-data NOISeq StartedAt: 2021-10-14 07:51:21 -0400 (Thu, 14 Oct 2021) EndedAt: 2021-10-14 07:52:13 -0400 (Thu, 14 Oct 2021) EllapsedTime: 51.9 seconds RetCode: 0 Status: OK PackageFile: NOISeq_2.36.0.tar.gz PackageFileSize: 1.932 MiB