Package: NOISeq Version: 2.36.0 Command: /home/biocbuild/bbs-3.13-bioc/R/bin/R CMD check --install=check:NOISeq.install-out.txt --library=/home/biocbuild/bbs-3.13-bioc/R/library --no-vignettes --timings NOISeq_2.36.0.tar.gz StartedAt: 2021-10-14 10:49:45 -0400 (Thu, 14 Oct 2021) EndedAt: 2021-10-14 10:51:07 -0400 (Thu, 14 Oct 2021) EllapsedTime: 82.5 seconds RetCode: 0 Status: OK CheckDir: NOISeq.Rcheck Warnings: 0