Package: NPARC Version: 1.4.0 Command: rm -rf NPARC.buildbin-libdir && mkdir NPARC.buildbin-libdir && /Users/biocbuild/BBS/utils/build-universal.sh NPARC_1.4.0.tar.gz /Library/Frameworks/R.framework/Versions/Current/Resources/bin/R NPARC.buildbin-libdir StartedAt: 2021-10-15 03:19:09 -0400 (Fri, 15 Oct 2021) EndedAt: 2021-10-15 03:20:14 -0400 (Fri, 15 Oct 2021) EllapsedTime: 64.5 seconds RetCode: 0 Status: OK PackageFile: NPARC_1.4.0.tgz PackageFileSize: 2.374 MiB