Package: NanoMethViz Version: 1.2.0 Command: /home/biocbuild/bbs-3.13-bioc/R/bin/R CMD build --keep-empty-dirs --no-resave-data NanoMethViz StartedAt: 2021-10-14 07:50:07 -0400 (Thu, 14 Oct 2021) EndedAt: 2021-10-14 07:51:39 -0400 (Thu, 14 Oct 2021) EllapsedTime: 92.4 seconds RetCode: 0 Status: OK PackageFile: NanoMethViz_1.2.0.tar.gz PackageFileSize: 2.955 MiB