Package: NanoMethViz Version: 1.2.0 Command: /home/biocbuild/bbs-3.13-bioc/R/bin/R CMD check --install=check:NanoMethViz.install-out.txt --library=/home/biocbuild/bbs-3.13-bioc/R/library --no-vignettes --timings NanoMethViz_1.2.0.tar.gz StartedAt: 2021-10-14 10:46:28 -0400 (Thu, 14 Oct 2021) EndedAt: 2021-10-14 10:51:56 -0400 (Thu, 14 Oct 2021) EllapsedTime: 328.8 seconds RetCode: 0 Status: OK CheckDir: NanoMethViz.Rcheck Warnings: 0