git_url: https://git.bioconductor.org/packages/NanoStringDiff git_branch: RELEASE_3_13 git_last_commit: 82f8b18 git_last_commit_date: 2021-05-19 12:14:58 -0400 (Wed, 19 May 2021) Package: NanoStringDiff Version: 1.22.0 Maintainer: tingting zhai ,hong wang MaintainerEmail: hong.wang at uky.edu