Package: NanoStringDiff Version: 1.22.0 Command: /home/biocbuild/bbs-3.13-bioc/R/bin/R CMD INSTALL NanoStringDiff StartedAt: 2021-10-14 06:05:07 -0400 (Thu, 14 Oct 2021) EndedAt: 2021-10-14 06:05:19 -0400 (Thu, 14 Oct 2021) EllapsedTime: 12.0 seconds RetCode: 0 Status: OK