Package: NeighborNet Version: 1.10.0 Command: /home/biocbuild/bbs-3.13-bioc/R/bin/R CMD INSTALL NeighborNet StartedAt: 2021-10-14 06:05:28 -0400 (Thu, 14 Oct 2021) EndedAt: 2021-10-14 06:05:30 -0400 (Thu, 14 Oct 2021) EllapsedTime: 2.8 seconds RetCode: 0 Status: OK