git_url: https://git.bioconductor.org/packages/NetPathMiner git_branch: RELEASE_3_13 git_last_commit: a0182f7 git_last_commit_date: 2021-05-19 12:04:54 -0400 (Wed, 19 May 2021) Package: NetPathMiner Version: 1.28.0 Maintainer: Ahmed Mohamed MaintainerEmail: mohamed at kuicr.kyoto-u.ac.jp