Package: NetSAM Version: 1.32.0 Command: rm -rf NetSAM.buildbin-libdir && mkdir NetSAM.buildbin-libdir && C:\Users\biocbuild\bbs-3.13-bioc\R\bin\R.exe CMD INSTALL --merge-multiarch --build --library=NetSAM.buildbin-libdir NetSAM_1.32.0.tar.gz StartedAt: 2021-10-15 10:42:07 -0400 (Fri, 15 Oct 2021) EndedAt: 2021-10-15 10:43:24 -0400 (Fri, 15 Oct 2021) EllapsedTime: 77.2 seconds RetCode: 0 Status: OK PackageFile: NetSAM_1.32.0.zip PackageFileSize: 1.231 MiB