Package: NetSAM Version: 1.32.0 Command: chmod a+r NetSAM -R && C:\Users\biocbuild\bbs-3.13-bioc\R\bin\R.exe CMD build --keep-empty-dirs --no-resave-data NetSAM StartedAt: 2021-10-14 16:08:26 -0400 (Thu, 14 Oct 2021) EndedAt: 2021-10-14 16:09:11 -0400 (Thu, 14 Oct 2021) EllapsedTime: 44.6 seconds RetCode: 0 Status: OK PackageFile: NetSAM_1.32.0.tar.gz PackageFileSize: 1.029 MiB