git_url: https://git.bioconductor.org/packages/NormqPCR git_branch: RELEASE_3_13 git_last_commit: e4655ed git_last_commit_date: 2021-05-19 11:49:20 -0400 (Wed, 19 May 2021) Package: NormqPCR Version: 1.38.0 Maintainer: James Perkins MaintainerEmail: jimrperkins at gmail.com