Package: NuPoP Version: 2.0.0 Command: rm -rf NuPoP.buildbin-libdir && mkdir NuPoP.buildbin-libdir && /Users/biocbuild/BBS/utils/build-universal.sh NuPoP_2.0.0.tar.gz /Library/Frameworks/R.framework/Versions/Current/Resources/bin/R NuPoP.buildbin-libdir StartedAt: 2021-10-15 03:19:41 -0400 (Fri, 15 Oct 2021) EndedAt: 2021-10-15 03:20:46 -0400 (Fri, 15 Oct 2021) EllapsedTime: 65.0 seconds RetCode: 0 Status: OK PackageFile: NuPoP_2.0.0.tgz PackageFileSize: 4.358 MiB