############################################################################## ############################################################################## ### ### Running command: ### ### C:\cygwin\bin\curl.exe -O http://155.52.207.165/BBS/3.13/bioc/src/contrib/NuPoP_2.0.0.tar.gz && rm -rf NuPoP.buildbin-libdir && mkdir NuPoP.buildbin-libdir && C:\Users\biocbuild\bbs-3.13-bioc\R\bin\R.exe CMD INSTALL --merge-multiarch --build --library=NuPoP.buildbin-libdir NuPoP_2.0.0.tar.gz && C:\Users\biocbuild\bbs-3.13-bioc\R\bin\R.exe CMD INSTALL NuPoP_2.0.0.zip && rm NuPoP_2.0.0.tar.gz NuPoP_2.0.0.zip ### ############################################################################## ############################################################################## % Total % Received % Xferd Average Speed Time Time Time Current Dload Upload Total Spent Left Speed 0 0 0 0 0 0 0 0 --:--:-- --:--:-- --:--:-- 0 0 7025k 0 15985 0 0 117k 0 0:00:59 --:--:-- 0:00:59 117k 100 7025k 100 7025k 0 0 7328k 0 --:--:-- --:--:-- --:--:-- 7325k install for i386 * installing *source* package 'NuPoP' ... ** using staged installation ** libs "C:/rtools40/mingw32/bin/"gfortran -fno-optimize-sibling-calls -O2 -mfpmath=sse -msse2 -mstackrealign -c vtbfb.f90 -o vtbfb.o "C:/rtools40/mingw32/bin/"gfortran -fno-optimize-sibling-calls -O2 -mfpmath=sse -msse2 -mstackrealign -c vtbfbNL4.f90 -o vtbfbNL4.o C:/rtools40/mingw32/bin/gcc -shared -s -static-libgcc -o NuPoP.dll tmp.def vtbfb.o vtbfbNL4.o -Lc:/extsoft/lib/i386 -Lc:/extsoft/lib -lgfortran -lm -lquadmath -LC:/Users/BIOCBU~1/BBS-3~1.13-/R/bin/i386 -lR installing to C:/Users/biocbuild/bbs-3.13-bioc/meat/NuPoP.buildbin-libdir/00LOCK-NuPoP/00new/NuPoP/libs/i386 ** R ** inst ** byte-compile and prepare package for lazy loading ** help *** installing help indices converting help for package 'NuPoP' finding HTML links ... done NuPoP-package html plotNuPoP html predNuPoP html predNuPoP_chem html readNuPoP html ** building package indices ** installing vignettes 'NuPoP.Rmd' using 'UTF-8' ** testing if installed package can be loaded from temporary location ** testing if installed package can be loaded from final location ** testing if installed package keeps a record of temporary installation path install for x64 * installing *source* package 'NuPoP' ... ** libs "C:/rtools40/mingw64/bin/"gfortran -fno-optimize-sibling-calls -O2 -mfpmath=sse -msse2 -mstackrealign -c vtbfb.f90 -o vtbfb.o "C:/rtools40/mingw64/bin/"gfortran -fno-optimize-sibling-calls -O2 -mfpmath=sse -msse2 -mstackrealign -c vtbfbNL4.f90 -o vtbfbNL4.o C:/rtools40/mingw64/bin/gcc -shared -s -static-libgcc -o NuPoP.dll tmp.def vtbfb.o vtbfbNL4.o -LC:/extsoft/lib/x64 -LC:/extsoft/lib -lgfortran -lm -lquadmath -LC:/Users/BIOCBU~1/BBS-3~1.13-/R/bin/x64 -lR installing to C:/Users/biocbuild/bbs-3.13-bioc/meat/NuPoP.buildbin-libdir/NuPoP/libs/x64 ** testing if installed package can be loaded * MD5 sums packaged installation of 'NuPoP' as NuPoP_2.0.0.zip * DONE (NuPoP) * installing to library 'C:/Users/biocbuild/bbs-3.13-bioc/R/library' package 'NuPoP' successfully unpacked and MD5 sums checked