Package: OCplus Version: 1.66.0 Command: C:\cygwin\bin\curl.exe -O http://155.52.207.165/BBS/3.13/bioc/src/contrib/OCplus_1.66.0.tar.gz && rm -rf OCplus.buildbin-libdir && mkdir OCplus.buildbin-libdir && C:\Users\biocbuild\bbs-3.13-bioc\R\bin\R.exe CMD INSTALL --merge-multiarch --build --library=OCplus.buildbin-libdir OCplus_1.66.0.tar.gz && C:\Users\biocbuild\bbs-3.13-bioc\R\bin\R.exe CMD INSTALL OCplus_1.66.0.zip && rm OCplus_1.66.0.tar.gz OCplus_1.66.0.zip StartedAt: 2021-10-14 07:40:21 -0400 (Thu, 14 Oct 2021) EndedAt: 2021-10-14 07:41:26 -0400 (Thu, 14 Oct 2021) EllapsedTime: 65.0 seconds RetCode: 0 Status: OK