Package: OMICsPCA Version: 1.10.0 Command: /home/biocbuild/bbs-3.13-bioc/R/bin/R CMD check --install=check:OMICsPCA.install-out.txt --library=/home/biocbuild/bbs-3.13-bioc/R/library --no-vignettes --timings OMICsPCA_1.10.0.tar.gz StartedAt: 2021-10-14 10:51:33 -0400 (Thu, 14 Oct 2021) EndedAt: 2021-10-14 10:57:47 -0400 (Thu, 14 Oct 2021) EllapsedTime: 374.4 seconds RetCode: 0 Status: OK CheckDir: OMICsPCA.Rcheck Warnings: 0