Package: OMICsPCA Version: 1.10.0 Command: /home/biocbuild/bbs-3.13-bioc/R/bin/R CMD INSTALL OMICsPCA StartedAt: 2021-10-14 06:34:50 -0400 (Thu, 14 Oct 2021) EndedAt: 2021-10-14 06:35:33 -0400 (Thu, 14 Oct 2021) EllapsedTime: 43.6 seconds RetCode: 0 Status: OK