Package: ORFik Version: 1.12.13 Command: /home/biocbuild/bbs-3.13-bioc/R/bin/R CMD check --install=check:ORFik.install-out.txt --library=/home/biocbuild/bbs-3.13-bioc/R/library --no-vignettes --timings ORFik_1.12.13.tar.gz StartedAt: 2021-10-14 10:54:01 -0400 (Thu, 14 Oct 2021) EndedAt: 2021-10-14 11:02:32 -0400 (Thu, 14 Oct 2021) EllapsedTime: 511.4 seconds RetCode: 0 Status: OK CheckDir: ORFik.Rcheck Warnings: 0