Package: ORFik Version: 1.12.13 Command: rm -rf ORFik.buildbin-libdir && mkdir ORFik.buildbin-libdir && C:\Users\biocbuild\bbs-3.13-bioc\R\bin\R.exe CMD INSTALL --merge-multiarch --build --library=ORFik.buildbin-libdir ORFik_1.12.13.tar.gz StartedAt: 2021-10-15 10:49:39 -0400 (Fri, 15 Oct 2021) EndedAt: 2021-10-15 10:52:44 -0400 (Fri, 15 Oct 2021) EllapsedTime: 185.4 seconds RetCode: 0 Status: OK PackageFile: ORFik_1.12.13.zip PackageFileSize: 4.978 MiB