Package: ORFik Version: 1.12.13 Command: chmod a+r ORFik -R && C:\Users\biocbuild\bbs-3.13-bioc\R\bin\R.exe CMD build --keep-empty-dirs --no-resave-data ORFik StartedAt: 2021-10-14 16:20:06 -0400 (Thu, 14 Oct 2021) EndedAt: 2021-10-14 16:34:27 -0400 (Thu, 14 Oct 2021) EllapsedTime: 861.1 seconds RetCode: 0 Status: OK PackageFile: ORFik_1.12.13.tar.gz PackageFileSize: 2.489 MiB