Package: ORFik Version: 1.12.13 Command: C:\cygwin\bin\curl.exe -O http://155.52.207.165/BBS/3.13/bioc/src/contrib/ORFik_1.12.13.tar.gz && rm -rf ORFik.buildbin-libdir && mkdir ORFik.buildbin-libdir && C:\Users\biocbuild\bbs-3.13-bioc\R\bin\R.exe CMD INSTALL --merge-multiarch --build --library=ORFik.buildbin-libdir ORFik_1.12.13.tar.gz && C:\Users\biocbuild\bbs-3.13-bioc\R\bin\R.exe CMD INSTALL ORFik_1.12.13.zip && rm ORFik_1.12.13.tar.gz ORFik_1.12.13.zip StartedAt: 2021-10-14 10:30:31 -0400 (Thu, 14 Oct 2021) EndedAt: 2021-10-14 10:34:09 -0400 (Thu, 14 Oct 2021) EllapsedTime: 218.4 seconds RetCode: 0 Status: OK