git_url: https://git.bioconductor.org/packages/OTUbase git_branch: RELEASE_3_13 git_last_commit: d423dfc git_last_commit_date: 2021-05-19 11:46:21 -0400 (Wed, 19 May 2021) Package: OTUbase Version: 1.42.0 Maintainer: Daniel Beck MaintainerEmail: danlbek at gmail.com