Package: OTUbase Version: 1.42.0 Command: /Library/Frameworks/R.framework/Versions/Current/Resources/bin/R CMD build --keep-empty-dirs --no-resave-data OTUbase StartedAt: 2021-10-14 13:42:36 -0400 (Thu, 14 Oct 2021) EndedAt: 2021-10-14 13:44:10 -0400 (Thu, 14 Oct 2021) EllapsedTime: 94.3 seconds RetCode: 0 Status: OK PackageFile: OTUbase_1.42.0.tar.gz PackageFileSize: 245.4 KiB