Package: OncoSimulR Version: 3.0.0 Command: /home/biocbuild/bbs-3.13-bioc/R/bin/R CMD check --install=check:OncoSimulR.install-out.txt --library=/home/biocbuild/bbs-3.13-bioc/R/library --no-vignettes --timings OncoSimulR_3.0.0.tar.gz StartedAt: 2021-10-14 10:52:08 -0400 (Thu, 14 Oct 2021) EndedAt: 2021-10-14 10:59:16 -0400 (Thu, 14 Oct 2021) EllapsedTime: 428.3 seconds RetCode: 0 Status: OK CheckDir: OncoSimulR.Rcheck Warnings: 0