Package: OpenStats Version: 1.4.0 Command: /home/biocbuild/bbs-3.13-bioc/R/bin/R CMD INSTALL OpenStats StartedAt: 2021-10-14 06:30:51 -0400 (Thu, 14 Oct 2021) EndedAt: 2021-10-14 06:31:14 -0400 (Thu, 14 Oct 2021) EllapsedTime: 22.7 seconds RetCode: 0 Status: OK