Package: OrganismDbi Version: 1.34.0 Command: /home/biocbuild/bbs-3.13-bioc/R/bin/R CMD check --install=check:OrganismDbi.install-out.txt --library=/home/biocbuild/bbs-3.13-bioc/R/library --no-vignettes --timings OrganismDbi_1.34.0.tar.gz StartedAt: 2021-10-14 10:54:04 -0400 (Thu, 14 Oct 2021) EndedAt: 2021-10-14 11:04:15 -0400 (Thu, 14 Oct 2021) EllapsedTime: 611.5 seconds RetCode: 0 Status: WARNINGS CheckDir: OrganismDbi.Rcheck Warnings: 1