Package: OrganismDbi Version: 1.34.0 Command: /home/biocbuild/bbs-3.13-bioc/R/bin/R CMD INSTALL OrganismDbi StartedAt: 2021-10-14 06:23:28 -0400 (Thu, 14 Oct 2021) EndedAt: 2021-10-14 06:24:04 -0400 (Thu, 14 Oct 2021) EllapsedTime: 36.5 seconds RetCode: 0 Status: OK