Package: OrganismDbi Version: 1.34.0 Command: rm -rf OrganismDbi.buildbin-libdir && mkdir OrganismDbi.buildbin-libdir && C:\Users\biocbuild\bbs-3.13-bioc\R\bin\R.exe CMD INSTALL --merge-multiarch --build --library=OrganismDbi.buildbin-libdir OrganismDbi_1.34.0.tar.gz StartedAt: 2021-10-15 10:49:56 -0400 (Fri, 15 Oct 2021) EndedAt: 2021-10-15 10:50:55 -0400 (Fri, 15 Oct 2021) EllapsedTime: 59.3 seconds RetCode: 0 Status: OK PackageFile: OrganismDbi_1.34.0.zip PackageFileSize: 676.3 KiB