Package: Oscope Version: 1.22.0 Command: rm -rf Oscope.buildbin-libdir && mkdir Oscope.buildbin-libdir && /Users/biocbuild/BBS/utils/build-universal.sh Oscope_1.22.0.tar.gz /Library/Frameworks/R.framework/Versions/Current/Resources/bin/R Oscope.buildbin-libdir StartedAt: 2021-10-15 03:23:14 -0400 (Fri, 15 Oct 2021) EndedAt: 2021-10-15 03:24:07 -0400 (Fri, 15 Oct 2021) EllapsedTime: 52.5 seconds RetCode: 0 Status: OK PackageFile: Oscope_1.22.0.tgz PackageFileSize: 837.9 KiB