Package: Oscope Version: 1.22.0 Command: /Library/Frameworks/R.framework/Versions/Current/Resources/bin/R CMD check --install=check:Oscope.install-out.txt --library=/Library/Frameworks/R.framework/Versions/Current/Resources/library --no-vignettes --timings Oscope_1.22.0.tar.gz StartedAt: 2021-10-14 22:01:27 -0400 (Thu, 14 Oct 2021) EndedAt: 2021-10-14 22:03:02 -0400 (Thu, 14 Oct 2021) EllapsedTime: 95.7 seconds RetCode: 0 Status: OK CheckDir: Oscope.Rcheck Warnings: 0