Package: Oscope Version: 1.22.0 Command: /home/biocbuild/bbs-3.13-bioc/R/bin/R CMD build --keep-empty-dirs --no-resave-data Oscope StartedAt: 2021-10-14 07:54:22 -0400 (Thu, 14 Oct 2021) EndedAt: 2021-10-14 07:56:32 -0400 (Thu, 14 Oct 2021) EllapsedTime: 129.7 seconds RetCode: 0 Status: OK PackageFile: Oscope_1.22.0.tar.gz PackageFileSize: 1.151 MiB