Package: Oscope Version: 1.22.0 Command: C:\Users\biocbuild\bbs-3.13-bioc\R\bin\R.exe CMD check --force-multiarch --install=check:Oscope.install-out.txt --library=C:\Users\biocbuild\bbs-3.13-bioc\R\library --no-vignettes --timings Oscope_1.22.0.tar.gz StartedAt: 2021-10-15 03:02:03 -0400 (Fri, 15 Oct 2021) EndedAt: 2021-10-15 03:03:43 -0400 (Fri, 15 Oct 2021) EllapsedTime: 99.9 seconds RetCode: 0 Status: OK CheckDir: Oscope.Rcheck Warnings: 0