Package: OutlierD Version: 1.56.0 Command: /home/biocbuild/bbs-3.13-bioc/R/bin/R CMD INSTALL OutlierD StartedAt: 2021-10-14 06:05:15 -0400 (Thu, 14 Oct 2021) EndedAt: 2021-10-14 06:05:24 -0400 (Thu, 14 Oct 2021) EllapsedTime: 9.1 seconds RetCode: 0 Status: OK