Package: OutlierD Version: 1.56.0 Command: chmod a+r OutlierD -R && C:\Users\biocbuild\bbs-3.13-bioc\R\bin\R.exe CMD build --keep-empty-dirs --no-resave-data OutlierD StartedAt: 2021-10-14 16:26:21 -0400 (Thu, 14 Oct 2021) EndedAt: 2021-10-14 16:26:44 -0400 (Thu, 14 Oct 2021) EllapsedTime: 23.3 seconds RetCode: 1 Status: ERROR PackageFile: None PackageFileSize: NA