Package: PAA Version: 1.26.0 Command: rm -rf PAA.buildbin-libdir && mkdir PAA.buildbin-libdir && C:\Users\biocbuild\bbs-3.13-bioc\R\bin\R.exe CMD INSTALL --merge-multiarch --build --library=PAA.buildbin-libdir PAA_1.26.0.tar.gz StartedAt: 2021-10-15 10:50:45 -0400 (Fri, 15 Oct 2021) EndedAt: 2021-10-15 10:52:53 -0400 (Fri, 15 Oct 2021) EllapsedTime: 127.9 seconds RetCode: 0 Status: OK PackageFile: PAA_1.26.0.zip PackageFileSize: 3.757 MiB