git_url: https://git.bioconductor.org/packages/PANR git_branch: RELEASE_3_13 git_last_commit: e07690c git_last_commit_date: 2021-05-19 11:49:46 -0400 (Wed, 19 May 2021) Package: PANR Version: 1.38.0 Maintainer: Xin Wang MaintainerEmail: xin_wang at hms.harvard.edu