Package: PANR Version: 1.38.0 Command: chmod a+r PANR -R && C:\Users\biocbuild\bbs-3.13-bioc\R\bin\R.exe CMD build --keep-empty-dirs --no-resave-data PANR StartedAt: 2021-10-14 16:35:38 -0400 (Thu, 14 Oct 2021) EndedAt: 2021-10-14 16:36:08 -0400 (Thu, 14 Oct 2021) EllapsedTime: 29.5 seconds RetCode: 0 Status: OK PackageFile: PANR_1.38.0.tar.gz PackageFileSize: 1.981 MiB