Package: PANR Version: 1.38.0 Command: C:\Users\biocbuild\bbs-3.13-bioc\R\bin\R.exe CMD check --force-multiarch --install=check:PANR.install-out.txt --library=C:\Users\biocbuild\bbs-3.13-bioc\R\library --no-vignettes --timings PANR_1.38.0.tar.gz StartedAt: 2021-10-15 03:09:16 -0400 (Fri, 15 Oct 2021) EndedAt: 2021-10-15 03:11:12 -0400 (Fri, 15 Oct 2021) EllapsedTime: 116.0 seconds RetCode: 0 Status: OK CheckDir: PANR.Rcheck Warnings: 0