Package: PAST Version: 1.8.0 Command: /Library/Frameworks/R.framework/Versions/Current/Resources/bin/R CMD INSTALL PAST StartedAt: 2021-10-14 10:07:04 -0400 (Thu, 14 Oct 2021) EndedAt: 2021-10-14 10:08:00 -0400 (Thu, 14 Oct 2021) EllapsedTime: 56.0 seconds RetCode: 0 Status: OK