Package: PAST Version: 1.8.0 Command: /home/biocbuild/bbs-3.13-bioc/R/bin/R CMD build --keep-empty-dirs --no-resave-data PAST StartedAt: 2021-10-14 07:55:58 -0400 (Thu, 14 Oct 2021) EndedAt: 2021-10-14 07:59:49 -0400 (Thu, 14 Oct 2021) EllapsedTime: 230.6 seconds RetCode: 0 Status: OK PackageFile: PAST_1.8.0.tar.gz PackageFileSize: 953.9 KiB