Package: PAST Version: 1.8.0 Command: /home/biocbuild/bbs-3.13-bioc/R/bin/R CMD INSTALL PAST StartedAt: 2021-10-14 06:28:05 -0400 (Thu, 14 Oct 2021) EndedAt: 2021-10-14 06:28:31 -0400 (Thu, 14 Oct 2021) EllapsedTime: 26.9 seconds RetCode: 0 Status: OK