Package: PAST Version: 1.8.0 Command: C:\cygwin\bin\curl.exe -O http://155.52.207.165/BBS/3.13/bioc/src/contrib/PAST_1.8.0.tar.gz && rm -rf PAST.buildbin-libdir && mkdir PAST.buildbin-libdir && C:\Users\biocbuild\bbs-3.13-bioc\R\bin\R.exe CMD INSTALL --merge-multiarch --build --library=PAST.buildbin-libdir PAST_1.8.0.tar.gz && C:\Users\biocbuild\bbs-3.13-bioc\R\bin\R.exe CMD INSTALL PAST_1.8.0.zip && rm PAST_1.8.0.tar.gz PAST_1.8.0.zip StartedAt: 2021-10-14 10:40:57 -0400 (Thu, 14 Oct 2021) EndedAt: 2021-10-14 10:42:02 -0400 (Thu, 14 Oct 2021) EllapsedTime: 64.8 seconds RetCode: 0 Status: OK