Package: PCAN Version: 1.20.0 Command: rm -rf PCAN.buildbin-libdir && mkdir PCAN.buildbin-libdir && /Users/biocbuild/BBS/utils/build-universal.sh PCAN_1.20.0.tar.gz /Library/Frameworks/R.framework/Versions/Current/Resources/bin/R PCAN.buildbin-libdir StartedAt: 2021-10-15 03:25:53 -0400 (Fri, 15 Oct 2021) EndedAt: 2021-10-15 03:26:59 -0400 (Fri, 15 Oct 2021) EllapsedTime: 65.8 seconds RetCode: 0 Status: OK PackageFile: PCAN_1.20.0.tgz PackageFileSize: 2.476 MiB