Package: PCAN Version: 1.20.0 Command: /home/biocbuild/bbs-3.13-bioc/R/bin/R CMD INSTALL PCAN StartedAt: 2021-10-14 06:10:07 -0400 (Thu, 14 Oct 2021) EndedAt: 2021-10-14 06:10:10 -0400 (Thu, 14 Oct 2021) EllapsedTime: 2.8 seconds RetCode: 0 Status: OK