Package: PCAN Version: 1.20.0 Command: chmod a+r PCAN -R && C:\Users\biocbuild\bbs-3.13-bioc\R\bin\R.exe CMD build --keep-empty-dirs --no-resave-data PCAN StartedAt: 2021-10-14 16:40:26 -0400 (Thu, 14 Oct 2021) EndedAt: 2021-10-14 16:50:36 -0400 (Thu, 14 Oct 2021) EllapsedTime: 610.9 seconds RetCode: 0 Status: OK PackageFile: PCAN_1.20.0.tar.gz PackageFileSize: 2.162 MiB